Package: eisaR Version: 1.20.0 Command: /home/biocbuild/bbs-3.21-bioc/R/bin/R CMD check --install=check:eisaR.install-out.txt --library=/home/biocbuild/bbs-3.21-bioc/R/site-library --timings eisaR_1.20.0.tar.gz StartedAt: 2025-10-15 22:54:48 -0400 (Wed, 15 Oct 2025) EndedAt: 2025-10-15 22:59:51 -0400 (Wed, 15 Oct 2025) EllapsedTime: 303.4 seconds RetCode: 0 Status: OK CheckDir: eisaR.Rcheck Warnings: 0