Package: eiR Version: 1.48.0 Command: /Library/Frameworks/R.framework/Resources/bin/R CMD build --keep-empty-dirs --no-resave-data eiR StartedAt: 2025-09-29 23:53:07 -0400 (Mon, 29 Sep 2025) EndedAt: 2025-09-29 23:53:35 -0400 (Mon, 29 Sep 2025) EllapsedTime: 27.4 seconds RetCode: 0 Status: OK PackageFile: eiR_1.48.0.tar.gz PackageFileSize: 452.4 KiB