Package: eds Version: 1.10.0 Command: rm -rf eds.buildbin-libdir && mkdir eds.buildbin-libdir && /Users/biocbuild/BBS/utils/build-universal.sh eds_1.10.0.tar.gz /Library/Frameworks/R.framework/Resources/bin/R eds.buildbin-libdir StartedAt: 2025-04-22 00:43:53 -0400 (Tue, 22 Apr 2025) EndedAt: 2025-04-22 00:44:10 -0400 (Tue, 22 Apr 2025) EllapsedTime: 17.1 seconds RetCode: 0 Status: OK PackageFile: eds_1.10.0.tgz PackageFileSize: 257.5 KiB