Package: eds Version: 1.10.0 Command: rm -rf eds.buildbin-libdir && mkdir eds.buildbin-libdir && /Users/biocbuild/BBS/utils/build-universal.sh eds_1.10.0.tar.gz /Library/Frameworks/R.framework/Resources/bin/R eds.buildbin-libdir StartedAt: 2025-10-15 18:20:58 -0400 (Wed, 15 Oct 2025) EndedAt: 2025-10-15 18:21:12 -0400 (Wed, 15 Oct 2025) EllapsedTime: 13.5 seconds RetCode: 0 Status: OK PackageFile: eds_1.10.0.tgz PackageFileSize: 256.8 KiB