Package: edgeR Version: 4.6.3 Command: /Library/Frameworks/R.framework/Resources/bin/R CMD INSTALL edgeR StartedAt: 2025-10-13 15:07:13 -0400 (Mon, 13 Oct 2025) EndedAt: 2025-10-13 15:07:45 -0400 (Mon, 13 Oct 2025) EllapsedTime: 32.5 seconds RetCode: 0 Status: OK