Package: edgeR Version: 4.6.3 Command: /Library/Frameworks/R.framework/Resources/bin/R CMD check --install=check:edgeR.install-out.txt --library=/Library/Frameworks/R.framework/Resources/library --no-vignettes --timings edgeR_4.6.3.tar.gz StartedAt: 2025-10-14 03:16:15 -0400 (Tue, 14 Oct 2025) EndedAt: 2025-10-14 03:19:33 -0400 (Tue, 14 Oct 2025) EllapsedTime: 197.9 seconds RetCode: 0 Status: OK CheckDir: edgeR.Rcheck Warnings: 0