Package: edgeR Version: 4.6.3 Command: rm -rf edgeR.buildbin-libdir && mkdir edgeR.buildbin-libdir && /Users/biocbuild/BBS/utils/build-universal.sh edgeR_4.6.3.tar.gz /Library/Frameworks/R.framework/Resources/bin/R edgeR.buildbin-libdir StartedAt: 2025-10-14 13:21:11 -0400 (Tue, 14 Oct 2025) EndedAt: 2025-10-14 13:21:56 -0400 (Tue, 14 Oct 2025) EllapsedTime: 45.1 seconds RetCode: 0 Status: OK PackageFile: edgeR_4.6.3.tgz PackageFileSize: 2.94 MiB