Package: edge Version: 2.40.0 Command: /home/biocbuild/R/R/bin/R CMD INSTALL edge StartedAt: 2025-10-02 20:42:50 -0000 (Thu, 02 Oct 2025) EndedAt: 2025-10-02 20:43:24 -0000 (Thu, 02 Oct 2025) EllapsedTime: 34.1 seconds RetCode: 0 Status: OK