Package: edge Version: 2.40.0 Command: /home/biocbuild/R/R/bin/R CMD build --keep-empty-dirs --no-resave-data edge StartedAt: 2025-09-30 00:49:13 -0000 (Tue, 30 Sep 2025) EndedAt: 2025-09-30 00:50:26 -0000 (Tue, 30 Sep 2025) EllapsedTime: 73.0 seconds RetCode: 0 Status: OK PackageFile: edge_2.40.0.tar.gz PackageFileSize: 998.4 KiB