Package: easylift Version: 1.6.0 Command: /Library/Frameworks/R.framework/Resources/bin/R CMD INSTALL easylift StartedAt: 2025-10-02 15:58:31 -0400 (Thu, 02 Oct 2025) EndedAt: 2025-10-02 15:59:37 -0400 (Thu, 02 Oct 2025) EllapsedTime: 66.0 seconds RetCode: 0 Status: OK