Package: easylift Version: 1.6.0 Command: /Library/Frameworks/R.framework/Resources/bin/R CMD build --keep-empty-dirs --no-resave-data easylift StartedAt: 2025-04-21 16:40:50 -0400 (Mon, 21 Apr 2025) EndedAt: 2025-04-21 16:41:45 -0400 (Mon, 21 Apr 2025) EllapsedTime: 54.8 seconds RetCode: 0 Status: OK PackageFile: easylift_1.6.0.tar.gz PackageFileSize: 673.5 KiB