Package: easylift Version: 1.6.0 Command: rm -rf easylift.buildbin-libdir && mkdir easylift.buildbin-libdir && /Users/biocbuild/BBS/utils/build-universal.sh easylift_1.6.0.tar.gz /Library/Frameworks/R.framework/Resources/bin/R easylift.buildbin-libdir StartedAt: 2025-04-22 00:43:41 -0400 (Tue, 22 Apr 2025) EndedAt: 2025-04-22 00:44:29 -0400 (Tue, 22 Apr 2025) EllapsedTime: 47.4 seconds RetCode: 0 Status: OK PackageFile: easylift_1.6.0.tgz PackageFileSize: 692.1 KiB