Package: easyRNASeq Version: 2.44.0 Command: /home/biocbuild/bbs-3.21-bioc/R/bin/R CMD check --install=check:easyRNASeq.install-out.txt --library=/home/biocbuild/bbs-3.21-bioc/R/site-library --timings easyRNASeq_2.44.0.tar.gz StartedAt: 2025-10-15 22:52:32 -0400 (Wed, 15 Oct 2025) EndedAt: 2025-10-15 23:05:12 -0400 (Wed, 15 Oct 2025) EllapsedTime: 760.1 seconds RetCode: 0 Status: WARNINGS CheckDir: easyRNASeq.Rcheck Warnings: 1