Package: dyebias Version: 1.68.0 Command: /Library/Frameworks/R.framework/Resources/bin/R CMD INSTALL dyebias StartedAt: 2025-10-13 15:23:48 -0400 (Mon, 13 Oct 2025) EndedAt: 2025-10-13 15:24:06 -0400 (Mon, 13 Oct 2025) EllapsedTime: 17.5 seconds RetCode: 0 Status: OK