Package: dyebias Version: 1.68.0 Command: /home/biocbuild/R/R/bin/R CMD check --install=check:dyebias.install-out.txt --library=/home/biocbuild/R/R/site-library --no-vignettes --timings dyebias_1.68.0.tar.gz StartedAt: 2025-10-14 08:43:36 -0000 (Tue, 14 Oct 2025) EndedAt: 2025-10-14 08:44:31 -0000 (Tue, 14 Oct 2025) EllapsedTime: 55.1 seconds RetCode: 0 Status: OK CheckDir: dyebias.Rcheck Warnings: 0