Package: drawProteins Version: 1.28.0 Command: E:\biocbuild\bbs-3.21-bioc\R\bin\R.exe CMD check --no-multiarch --install=check:drawProteins.install-out.txt --library=E:\biocbuild\bbs-3.21-bioc\R\library --no-vignettes --timings drawProteins_1.28.0.tar.gz StartedAt: 2025-08-15 01:42:07 -0400 (Fri, 15 Aug 2025) EndedAt: 2025-08-15 01:43:06 -0400 (Fri, 15 Aug 2025) EllapsedTime: 58.5 seconds RetCode: 0 Status: OK CheckDir: drawProteins.Rcheck Warnings: 0