Package: drawProteins Version: 1.28.0 Command: /Library/Frameworks/R.framework/Resources/bin/R CMD check --install=check:drawProteins.install-out.txt --library=/Library/Frameworks/R.framework/Resources/library --no-vignettes --timings drawProteins_1.28.0.tar.gz StartedAt: 2025-10-14 03:06:24 -0400 (Tue, 14 Oct 2025) EndedAt: 2025-10-14 03:08:09 -0400 (Tue, 14 Oct 2025) EllapsedTime: 105.0 seconds RetCode: 1 Status: ERROR CheckDir: drawProteins.Rcheck Warnings: NA