Package: drawProteins Version: 1.28.0 Command: /home/biocbuild/R/R/bin/R CMD check --install=check:drawProteins.install-out.txt --library=/home/biocbuild/R/R/site-library --no-vignettes --timings drawProteins_1.28.0.tar.gz StartedAt: 2025-10-14 08:39:11 -0000 (Tue, 14 Oct 2025) EndedAt: 2025-10-14 08:40:17 -0000 (Tue, 14 Oct 2025) EllapsedTime: 66.0 seconds RetCode: 1 Status: ERROR CheckDir: drawProteins.Rcheck Warnings: NA