Package: doseR Version: 1.24.0 Command: E:\biocbuild\bbs-3.21-bioc\R\bin\R.exe CMD check --no-multiarch --install=check:doseR.install-out.txt --library=E:\biocbuild\bbs-3.21-bioc\R\library --no-vignettes --timings doseR_1.24.0.tar.gz StartedAt: 2025-08-15 01:40:31 -0400 (Fri, 15 Aug 2025) EndedAt: 2025-08-15 01:43:56 -0400 (Fri, 15 Aug 2025) EllapsedTime: 205.3 seconds RetCode: 0 Status: OK CheckDir: doseR.Rcheck Warnings: 0