Package: doppelgangR Version: 1.36.1 Command: /home/biocbuild/bbs-3.21-bioc/R/bin/R CMD build --keep-empty-dirs --no-resave-data doppelgangR StartedAt: 2025-10-15 17:17:00 -0400 (Wed, 15 Oct 2025) EndedAt: 2025-10-15 17:18:19 -0400 (Wed, 15 Oct 2025) EllapsedTime: 79.1 seconds RetCode: 0 Status: OK PackageFile: doppelgangR_1.36.1.tar.gz PackageFileSize: 452.9 KiB