Package: doppelgangR Version: 1.36.1 Command: /Library/Frameworks/R.framework/Resources/bin/R CMD build --keep-empty-dirs --no-resave-data doppelgangR StartedAt: 2025-10-13 18:44:10 -0400 (Mon, 13 Oct 2025) EndedAt: 2025-10-13 18:46:45 -0400 (Mon, 13 Oct 2025) EllapsedTime: 155.3 seconds RetCode: 0 Status: OK PackageFile: doppelgangR_1.36.1.tar.gz PackageFileSize: 458.4 KiB