Package: doppelgangR Version: 1.36.1 Command: rm -rf doppelgangR.buildbin-libdir && mkdir doppelgangR.buildbin-libdir && /Users/biocbuild/BBS/utils/build-universal.sh doppelgangR_1.36.1.tar.gz /Library/Frameworks/R.framework/Resources/bin/R doppelgangR.buildbin-libdir StartedAt: 2025-10-14 13:19:22 -0400 (Tue, 14 Oct 2025) EndedAt: 2025-10-14 13:21:08 -0400 (Tue, 14 Oct 2025) EllapsedTime: 105.4 seconds RetCode: 0 Status: OK PackageFile: doppelgangR_1.36.1.tgz PackageFileSize: 939.2 KiB