Package: doppelgangR Version: 1.36.0 Command: rm -rf doppelgangR.buildbin-libdir && mkdir doppelgangR.buildbin-libdir && /Users/biocbuild/BBS/utils/build-universal.sh doppelgangR_1.36.0.tar.gz /Library/Frameworks/R.framework/Resources/bin/R doppelgangR.buildbin-libdir StartedAt: 2025-04-22 00:43:19 -0400 (Tue, 22 Apr 2025) EndedAt: 2025-04-22 00:44:06 -0400 (Tue, 22 Apr 2025) EllapsedTime: 47.4 seconds RetCode: 0 Status: OK PackageFile: doppelgangR_1.36.0.tgz PackageFileSize: 940.2 KiB