Package: doppelgangR Version: 1.36.1 Command: /Library/Frameworks/R.framework/Resources/bin/R CMD INSTALL doppelgangR StartedAt: 2025-10-13 16:08:27 -0400 (Mon, 13 Oct 2025) EndedAt: 2025-10-13 16:09:05 -0400 (Mon, 13 Oct 2025) EllapsedTime: 37.7 seconds RetCode: 0 Status: OK