Package: doppelgangR Version: 1.36.1 Command: /Library/Frameworks/R.framework/Resources/bin/R CMD build --keep-empty-dirs --no-resave-data doppelgangR StartedAt: 2025-10-13 23:31:23 -0400 (Mon, 13 Oct 2025) EndedAt: 2025-10-13 23:32:52 -0400 (Mon, 13 Oct 2025) EllapsedTime: 89.2 seconds RetCode: 0 Status: OK PackageFile: doppelgangR_1.36.1.tar.gz PackageFileSize: 458.5 KiB