Package: dominoSignal Version: 1.2.0 Command: rm -rf dominoSignal.buildbin-libdir && mkdir dominoSignal.buildbin-libdir && E:\biocbuild\bbs-3.21-bioc\R\bin\R.exe CMD INSTALL --build --library=dominoSignal.buildbin-libdir dominoSignal_1.2.0.tar.gz StartedAt: 2025-08-15 09:12:07 -0400 (Fri, 15 Aug 2025) EndedAt: 2025-08-15 09:13:13 -0400 (Fri, 15 Aug 2025) EllapsedTime: 66.1 seconds RetCode: 0 Status: OK PackageFile: dominoSignal_1.2.0.zip PackageFileSize: 1.034 MiB