Package: dominoSignal Version: 1.2.0 Command: rm -rf dominoSignal.buildbin-libdir && mkdir dominoSignal.buildbin-libdir && /Users/biocbuild/BBS/utils/build-universal.sh dominoSignal_1.2.0.tar.gz /Library/Frameworks/R.framework/Resources/bin/R dominoSignal.buildbin-libdir StartedAt: 2025-10-14 13:19:13 -0400 (Tue, 14 Oct 2025) EndedAt: 2025-10-14 13:20:35 -0400 (Tue, 14 Oct 2025) EllapsedTime: 81.6 seconds RetCode: 0 Status: OK PackageFile: dominoSignal_1.2.0.tgz PackageFileSize: 1.484 MiB