Package: dominoSignal Version: 1.2.0 Command: /home/biocbuild/R/R/bin/R CMD check --install=check:dominoSignal.install-out.txt --library=/home/biocbuild/R/R/site-library --no-vignettes --timings dominoSignal_1.2.0.tar.gz StartedAt: 2025-10-14 08:37:54 -0000 (Tue, 14 Oct 2025) EndedAt: 2025-10-14 08:41:52 -0000 (Tue, 14 Oct 2025) EllapsedTime: 238.2 seconds RetCode: 0 Status: OK CheckDir: dominoSignal.Rcheck Warnings: 0