Package: dominoSignal Version: 1.2.0 Command: /Library/Frameworks/R.framework/Resources/bin/R CMD build --keep-empty-dirs --no-resave-data dominoSignal StartedAt: 2025-10-13 23:30:58 -0400 (Mon, 13 Oct 2025) EndedAt: 2025-10-13 23:33:33 -0400 (Mon, 13 Oct 2025) EllapsedTime: 155.1 seconds RetCode: 0 Status: OK PackageFile: dominoSignal_1.2.0.tar.gz PackageFileSize: 1.076 MiB