Package: dmrseq Version: 1.28.0 Command: rm -rf dmrseq.buildbin-libdir && mkdir dmrseq.buildbin-libdir && E:\biocbuild\bbs-3.21-bioc\R\bin\R.exe CMD INSTALL --build --library=dmrseq.buildbin-libdir dmrseq_1.28.0.tar.gz StartedAt: 2025-08-15 09:11:36 -0400 (Fri, 15 Aug 2025) EndedAt: 2025-08-15 09:12:35 -0400 (Fri, 15 Aug 2025) EllapsedTime: 58.9 seconds RetCode: 0 Status: OK PackageFile: dmrseq_1.28.0.zip PackageFileSize: 4.214 MiB