Package: dks Version: 1.54.0 Command: E:\biocbuild\bbs-3.21-bioc\R\bin\R.exe CMD check --no-multiarch --install=check:dks.install-out.txt --library=E:\biocbuild\bbs-3.21-bioc\R\library --no-vignettes --timings dks_1.54.0.tar.gz StartedAt: 2025-08-15 01:36:11 -0400 (Fri, 15 Aug 2025) EndedAt: 2025-08-15 01:36:43 -0400 (Fri, 15 Aug 2025) EllapsedTime: 32.7 seconds RetCode: 0 Status: OK CheckDir: dks.Rcheck Warnings: 0