Package: dks Version: 1.54.0 Command: /Library/Frameworks/R.framework/Resources/bin/R CMD build --keep-empty-dirs --no-resave-data dks StartedAt: 2025-04-21 16:38:11 -0400 (Mon, 21 Apr 2025) EndedAt: 2025-04-21 16:38:27 -0400 (Mon, 21 Apr 2025) EllapsedTime: 16.0 seconds RetCode: 0 Status: OK PackageFile: dks_1.54.0.tar.gz PackageFileSize: 600.5 KiB