Package: dks Version: 1.54.0 Command: rm -rf dks.buildbin-libdir && mkdir dks.buildbin-libdir && /Users/biocbuild/BBS/utils/build-universal.sh dks_1.54.0.tar.gz /Library/Frameworks/R.framework/Resources/bin/R dks.buildbin-libdir StartedAt: 2025-10-15 18:16:22 -0400 (Wed, 15 Oct 2025) EndedAt: 2025-10-15 18:16:25 -0400 (Wed, 15 Oct 2025) EllapsedTime: 3.2 seconds RetCode: 0 Status: OK PackageFile: dks_1.54.0.tgz PackageFileSize: 620.7 KiB