Package: divergence Version: 1.24.0 Command: /home/biocbuild/R/R/bin/R CMD build --keep-empty-dirs --no-resave-data divergence StartedAt: 2025-10-14 00:24:30 -0000 (Tue, 14 Oct 2025) EndedAt: 2025-10-14 00:25:44 -0000 (Tue, 14 Oct 2025) EllapsedTime: 74.0 seconds RetCode: 0 Status: OK PackageFile: divergence_1.24.0.tar.gz PackageFileSize: 2.073 MiB