Package: dir.expiry Version: 1.16.0 Command: /Library/Frameworks/R.framework/Resources/bin/R CMD INSTALL dir.expiry StartedAt: 2025-10-13 15:05:52 -0400 (Mon, 13 Oct 2025) EndedAt: 2025-10-13 15:06:10 -0400 (Mon, 13 Oct 2025) EllapsedTime: 17.6 seconds RetCode: 0 Status: OK