Package: dinoR Version: 1.4.0 Command: /Library/Frameworks/R.framework/Resources/bin/R CMD check --install=check:dinoR.install-out.txt --library=/Library/Frameworks/R.framework/Resources/library --no-vignettes --timings dinoR_1.4.0.tar.gz StartedAt: 2025-04-21 19:08:15 -0400 (Mon, 21 Apr 2025) EndedAt: 2025-04-21 19:09:41 -0400 (Mon, 21 Apr 2025) EllapsedTime: 86.0 seconds RetCode: 0 Status: OK CheckDir: dinoR.Rcheck Warnings: 0