Package: diggit Version: 1.40.0 Command: chmod a+r diggit -R && E:\biocbuild\bbs-3.21-bioc\R\bin\R.exe CMD build --keep-empty-dirs --no-resave-data diggit StartedAt: 2025-08-14 18:38:37 -0400 (Thu, 14 Aug 2025) EndedAt: 2025-08-14 18:48:03 -0400 (Thu, 14 Aug 2025) EllapsedTime: 566.3 seconds RetCode: 0 Status: OK PackageFile: diggit_1.40.0.tar.gz PackageFileSize: 205.4 KiB