Package: diggit Version: 1.40.0 Command: /home/biocbuild/R/R/bin/R CMD check --install=check:diggit.install-out.txt --library=/home/biocbuild/R/R/site-library --no-vignettes --timings diggit_1.40.0.tar.gz StartedAt: 2025-10-14 08:31:55 -0000 (Tue, 14 Oct 2025) EndedAt: 2025-10-14 08:35:54 -0000 (Tue, 14 Oct 2025) EllapsedTime: 239.2 seconds RetCode: 0 Status: WARNINGS CheckDir: diggit.Rcheck Warnings: 3