Package: diggit Version: 1.40.0 Command: /Library/Frameworks/R.framework/Resources/bin/R CMD build --keep-empty-dirs --no-resave-data diggit StartedAt: 2025-10-13 23:21:37 -0400 (Mon, 13 Oct 2025) EndedAt: 2025-10-13 23:24:45 -0400 (Mon, 13 Oct 2025) EllapsedTime: 188.0 seconds RetCode: 0 Status: OK PackageFile: diggit_1.40.0.tar.gz PackageFileSize: 349 KiB