Package: diggit Version: 1.40.0 Command: rm -rf diggit.buildbin-libdir && mkdir diggit.buildbin-libdir && /Users/biocbuild/BBS/utils/build-universal.sh diggit_1.40.0.tar.gz /Library/Frameworks/R.framework/Resources/bin/R diggit.buildbin-libdir StartedAt: 2025-10-15 18:15:14 -0400 (Wed, 15 Oct 2025) EndedAt: 2025-10-15 18:15:32 -0400 (Wed, 15 Oct 2025) EllapsedTime: 18.0 seconds RetCode: 0 Status: OK PackageFile: diggit_1.40.0.tgz PackageFileSize: 607.2 KiB