Package: diffcoexp Version: 1.28.0 Command: /Library/Frameworks/R.framework/Resources/bin/R CMD INSTALL diffcoexp StartedAt: 2025-10-13 16:27:17 -0400 (Mon, 13 Oct 2025) EndedAt: 2025-10-13 16:28:22 -0400 (Mon, 13 Oct 2025) EllapsedTime: 65.1 seconds RetCode: 0 Status: OK