Package: diffcoexp Version: 1.28.0 Command: /Library/Frameworks/R.framework/Resources/bin/R CMD check --install=check:diffcoexp.install-out.txt --library=/Library/Frameworks/R.framework/Resources/library --no-vignettes --timings diffcoexp_1.28.0.tar.gz StartedAt: 2025-10-14 02:52:21 -0400 (Tue, 14 Oct 2025) EndedAt: 2025-10-14 02:59:51 -0400 (Tue, 14 Oct 2025) EllapsedTime: 449.8 seconds RetCode: 0 Status: OK CheckDir: diffcoexp.Rcheck Warnings: 0