Package: diffcoexp Version: 1.28.0 Command: /Library/Frameworks/R.framework/Resources/bin/R CMD build --keep-empty-dirs --no-resave-data diffcoexp StartedAt: 2025-10-13 18:37:57 -0400 (Mon, 13 Oct 2025) EndedAt: 2025-10-13 18:39:32 -0400 (Mon, 13 Oct 2025) EllapsedTime: 95.1 seconds RetCode: 0 Status: OK PackageFile: diffcoexp_1.28.0.tar.gz PackageFileSize: 293.7 KiB