Package: derfinderPlot Version: 1.42.0 Command: /home/biocbuild/R/R/bin/R CMD INSTALL derfinderPlot StartedAt: 2025-10-13 21:14:51 -0000 (Mon, 13 Oct 2025) EndedAt: 2025-10-13 21:16:02 -0000 (Mon, 13 Oct 2025) EllapsedTime: 71.0 seconds RetCode: 0 Status: OK