Package: derfinderPlot Version: 1.42.0 Command: /home/biocbuild/R/R/bin/R CMD check --install=check:derfinderPlot.install-out.txt --library=/home/biocbuild/R/R/site-library --no-vignettes --timings derfinderPlot_1.42.0.tar.gz StartedAt: 2025-10-14 08:25:54 -0000 (Tue, 14 Oct 2025) EndedAt: 2025-10-14 08:39:00 -0000 (Tue, 14 Oct 2025) EllapsedTime: 785.6 seconds RetCode: 0 Status: OK CheckDir: derfinderPlot.Rcheck Warnings: 0