Package: derfinderHelper Version: 1.42.0 Command: E:\biocbuild\bbs-3.21-bioc\R\bin\R.exe CMD INSTALL derfinderHelper StartedAt: 2025-08-14 15:47:01 -0400 (Thu, 14 Aug 2025) EndedAt: 2025-08-14 15:47:19 -0400 (Thu, 14 Aug 2025) EllapsedTime: 18.5 seconds RetCode: 0 Status: OK