Package: derfinderHelper Version: 1.42.0 Command: rm -rf derfinderHelper.buildbin-libdir && mkdir derfinderHelper.buildbin-libdir && E:\biocbuild\bbs-3.21-bioc\R\bin\R.exe CMD INSTALL --build --library=derfinderHelper.buildbin-libdir derfinderHelper_1.42.0.tar.gz StartedAt: 2025-08-15 09:09:45 -0400 (Fri, 15 Aug 2025) EndedAt: 2025-08-15 09:10:02 -0400 (Fri, 15 Aug 2025) EllapsedTime: 16.6 seconds RetCode: 0 Status: OK PackageFile: derfinderHelper_1.42.0.zip PackageFileSize: 328.6 KiB