Package: derfinder Version: 1.42.0 Command: /home/biocbuild/R/R/bin/R CMD check --install=check:derfinder.install-out.txt --library=/home/biocbuild/R/R/site-library --no-vignettes --timings derfinder_1.42.0.tar.gz StartedAt: 2025-10-14 08:25:21 -0000 (Tue, 14 Oct 2025) EndedAt: 2025-10-14 08:36:59 -0000 (Tue, 14 Oct 2025) EllapsedTime: 697.5 seconds RetCode: 0 Status: OK CheckDir: derfinder.Rcheck Warnings: 0