Package: densvis Version: 1.18.0 Command: E:\biocbuild\bbs-3.21-bioc\R\bin\R.exe CMD check --no-multiarch --install=check:densvis.install-out.txt --library=E:\biocbuild\bbs-3.21-bioc\R\library --no-vignettes --timings densvis_1.18.0.tar.gz StartedAt: 2025-08-15 01:25:40 -0400 (Fri, 15 Aug 2025) EndedAt: 2025-08-15 01:30:13 -0400 (Fri, 15 Aug 2025) EllapsedTime: 272.5 seconds RetCode: 0 Status: OK CheckDir: densvis.Rcheck Warnings: 0