Package: demuxmix Version: 1.10.0 Command: /Library/Frameworks/R.framework/Resources/bin/R CMD build --keep-empty-dirs --no-resave-data demuxmix StartedAt: 2025-04-21 16:33:47 -0400 (Mon, 21 Apr 2025) EndedAt: 2025-04-21 16:34:35 -0400 (Mon, 21 Apr 2025) EllapsedTime: 48.1 seconds RetCode: 0 Status: OK PackageFile: demuxmix_1.10.0.tar.gz PackageFileSize: 1.42 MiB